BEGIN:VCALENDAR
VERSION:2.0
PRODID:-//wp-events-plugin.com//7.2.3.1//EN
TZID:America/New_York
X-WR-TIMEZONE:America/New_York
BEGIN:VEVENT
UID:276@tempbetham.org
DTSTART;TZID=America/New_York:20221210T190000
DTEND;TZID=America/New_York:20221210T213000
DTSTAMP:20221103T115415Z
URL:https://www.tempbetham.org/events/cantors-concert-with-cantor-david-wo
 lff/
SUMMARY:Cantor's Concert with Cantor David Wolff
DESCRIPTION:
ATTACH;FMTTYPE=image/jpeg:https://www.tempbetham.org/wp-content/uploads/20
 22/08/cantors-concert.png
CATEGORIES:Community Events
END:VEVENT
BEGIN:VTIMEZONE
TZID:America/New_York
X-LIC-LOCATION:America/New_York
BEGIN:STANDARD
DTSTART:20221106T010000
TZOFFSETFROM:-0400
TZOFFSETTO:-0500
TZNAME:EST
END:STANDARD
END:VTIMEZONE
END:VCALENDAR